Workbook

Sheet 大会運営協力役員（全チーム確認）
B1: 大会運営協力役員
B2: ※中体連の大会は、参加するすべてのチームに協力をしていただいているおかげで大会が成り立っています。今大会においても、全チームにご協力をいただきたいと思います。よろしくお願いいたします。 なお、協力内容の割り振りについては、クラブ長副専門委員が決めますので、ご承知おきください。
B5: 仕事内容 | C5: １４日（土） 個人 | D5: １５日（日） 団体
B6: 駐車場 | C6: 〇 | D6: 〇 | E6: どちらかに最低一人は出ていただきます
B7: 受付・見守り | C7: 〇 | D7: 〇 | E7: どちらかに最低一人は出ていただきます
B8: 補助員 | C8: 〇 | D8: 〇 | E8: 全チーム対象
B9: その他の業務 | E9: ←ここのみ入力 この他にもご協力をいただける方がいる場合には、〇（人数）を入力してください
E10: 入力例：〇（3人）

Sheet 男子申込
A1: 令和8年度 東北信地区新人大会 バドミントンの部 参加申込書
M2: 2026年 | P2: 月 | R2: 日
I3: 中学校長 | R3: 印
I4: クラブ | L4: （クラブ代表者名） | R4: 印
A6: 記
A7: 【 団 体 】 | D7: （ 男 ・ 女 ）
A9: 学校名 チーム名
A11: 監督氏名 | D11: フリガナ | I11: 校長・教員 | K11: 部活動指導員 | T11: ・学校から参加する場合は、「校長・教員」「部活動指導員」のどちらかに〇をし，部活動指導員に〇をした場合は、任命権者を書いてください。
M12: 任命権者
A13: マネージャー またはコーチ | I13: ※教・認・生 | L13: ※「教」は教員，「認」は認定コーチ，「生」は生徒を表す。
A15: 選手氏名 | I15: 学年 | J15: 選手氏名 | R15: 学年
A16: 選 手 | D16: フリガナ | J16: 選 手 | M16: フリガナ
A18: 選 手 | D18: フリガナ | J18: 選 手 | M18: フリガナ
A20: 選 手 | D20: フリガナ | J20: 選 手 | M20: フリガナ
A22: 選 手 | D22: フリガナ
A27: 令和8年度 東北信地区新人大会 バドミントンの部 参加申込書
M28: 2026年 | P28: 月 | R28: 日
I29: 中学校長 | R29: 印
I30: クラブ | L30: （クラブ代表者名） | R30: 印
A32: 記
A33: 【 個 人 】 | D33: （ 男 ・ 女 ）
A35: 学校名 チーム名
A37: 監督氏名 | D37: フリガナ | I37: 校長・教員 | K37: 部活動指導員 | T37: ・学校から参加する場合は、「校長・教員」「部活動指導員」のどちらかに〇をし，部活動指導員に〇をした場合は、任命権者を書いてください。
M38: 任命権者
A39: マネージャー またはコーチ | I39: ※教・認・生 | L39: ※「教」は教員，「認」は認定コーチ，「生」は生徒を表す。
A41: 順位 | B41: 種目 | D41: 氏名 | I41: 学年 | K41: 生年月日 | O41: 備 考
A42: 1 | B42: 複 | D42: フリガナ
D45: フリガナ
A48: 2 | B48: 複 | D48: フリガナ
D51: フリガナ
A54: 3 | B54: 複 | D54: フリガナ
D57: フリガナ
A60: 4 | B60: 複 | D60: フリガナ
D63: フリガナ
A66: 1 | B66: 単 | D66: フリガナ
A69: 2 | B69: 単 | D69: フリガナ
A72: 3 | B72: 単 | D72: フリガナ
A75: 4 | B75: 単 | D75: フリガナ
A78: 5 | B78: 単 | D78: フリガナ
A81: 6 | B81: 単 | D81: フリガナ
...

Sheet 男子申込2
A1: 令和8年度 東北信地区新人大会 バドミントンの部 参加申込書
M2: 2026年 | P2: 月 | R2: 日
I3: 中学校長 | R3: 印
I4: クラブ | L4: （クラブ代表者名） | R4: 印
A6: 記
A7: 【 個 人 】 | D7: （ 男 ・ 女 ）
A9: 学校名 チーム名
A11: 監督氏名 | D11: フリガナ | I11: 校長・教員 | K11: 部活動指導員 | T11: ・学校から参加する場合は、「校長・教員」「部活動指導員」のどちらかに〇をし，部活動指導員に〇をした場合は、任命権者を書いてください。
M12: 任命権者
A13: マネージャー またはコーチ | I13: ※教・認・生 | L13: ※「教」は教員，「認」は認定コーチ，「生」は生徒を表す。
A15: 順位 | B15: 種目 | D15: 氏名 | I15: 学年 | K15: 生年月日 | O15: 備 考
A16: 5 | B16: 複 | D16: フリガナ
D19: フリガナ
A22: 6 | B22: 複 | D22: フリガナ
D25: フリガナ
A28: 7 | B28: 複 | D28: フリガナ
D31: フリガナ
A34: 8 | B34: 複 | D34: フリガナ
D37: フリガナ
A40: 9 | B40: 単 | D40: フリガナ
A43: 10 | B43: 単 | D43: フリガナ
A46: 11 | B46: 単 | D46: フリガナ
A49: 12 | B49: 単 | D49: フリガナ
A52: 13 | B52: 単 | D52: フリガナ
A55: 14 | B55: 単 | D55: フリガナ
A58: 15 | B58: 単 | D58: フリガナ
A61: 16 | B61: 単 | D61: フリガナ
A64: ・各種目ランク順に記入をお願いします。
A65: ・備考欄には令和６年度の県大会・地区大会及び過去の県協会主催大会等の実績の成績の記入をお願いします。
A66: ・欄が足りない場合は、シートをコピーし、種目順位を変更して提出してください。

Sheet 団体男(事務局用)
A1: 令和8年度 東北信地区新人大会 バドミントンの部
A2: 2026.11.15 長野運動公園総合体育館
A3: オーダー用紙 (本部提出用) | F3: (男子団体戦)
A4: 予選リーグ | B4: 決勝トーナメント | D4: 回戦 | E4: 試合番号
A5: 自チーム学校名 | B5: =男子申込!D9 -> 0 | E5: 相手チーム学校名 | G5: 中学校
A6: 監督氏名 | B6: =男子申込!$D$12 -> 0 | E6: コーチ氏名 | F6: =IF(男子申込!$D$13="","",男子申込!$D$13) | G6: =IF(男子申込!$I$14="","",男子申込!$I$14)
A7: ※試合に出場する選手の各試合欄に○を記入して下さい。 | B7: D1 | C7: S | D7: D2 | E7: 選手氏名 | F7: ふりがな | G7: 学年
E8: =IF(男子申込!$D$17="","",男子申込!$D$17) | F8: =IF(男子申込!$E$16="","",男子申込!$E$16) | G8: =IF(男子申込!$I$16="","",男子申込!$I$16)
E9: =IF(男子申込!$D$19="","",男子申込!$D$19) | F9: =IF(男子申込!$E$18="","",男子申込!$E$18) | G9: =IF(男子申込!$I$18="","",男子申込!$I$18)
E10: =IF(男子申込!$D$21="","",男子申込!$D$21) | F10: =IF(男子申込!$E$20="","",男子申込!$E$20) | G10: =IF(男子申込!$I$20="","",男子申込!$I$20)
E11: =IF(男子申込!$D$23="","",男子申込!$D$23) | F11: =IF(男子申込!$E$22="","",男子申込!$E$22) | G11: =IF(男子申込!$I$22="","",男子申込!$I$22)
E12: =IF(男子申込!$M$17="","",男子申込!$M$17) | F12: =IF(男子申込!$N$16="","",男子申込!$N$16) | G12: =IF(男子申込!$R$16="","",男子申込!$R$16)
E13: =IF(男子申込!$M$19="","",男子申込!$M$19) | F13: =IF(男子申込!$N$18="","",男子申込!$N$18) | G13: =IF(男子申込!$R$18="","",男子申込!$R$18)
E14: =IF(男子申込!$M$21="","",男子申込!$M$21) | F14: =IF(男子申込!$N$20="","",男子申込!$N$20) | G14: =IF(男子申込!$R$20="","",男子申込!$R$20)
C15: きりとり
A17: =A1 -> 令和8年度 東北信地区新人大会 バドミントンの部
A18: =A2 -> 2026.11.15 長野運動公園総合体育館
A19: オーダー用紙 (自チーム用) | F19: (男子団体戦)
A20: 予選リーグ | B20: 決勝トーナメント | D20: 回戦 | E20: 試合番号
A21: 自チーム学校名 | B21: =男子申込!D9 -> 0 | E21: 相手チーム学校名 | G21: 中学校
A22: 監督氏名 | B22: =男子申込!$D$12 -> 0 | E22: コーチ氏名 | F22: =IF(男子申込!$D$13="","",男子申込!$D$13) | G22: =IF(男子申込!$I$14="","",男子申込!$I$14)
A23: ※試合に出場する選手の各試合欄に○を記入して下さい。 | B23: D1 | C23: S | D23: D2 | E23: 選手氏名 | F23: ふりがな | G23: 学年
E24: =IF(男子申込!$D$17="","",男子申込!$D$17) | F24: =IF(男子申込!$E$16="","",男子申込!$E$16) | G24: =IF(男子申込!$I$16="","",男子申込!$I$16)
E25: =IF(男子申込!$D$19="","",男子申込!$D$19) | F25: =IF(男子申込!$E$18="","",男子申込!$E$18) | G25: =IF(男子申込!$I$18="","",男子申込!$I$18)
E26: =IF(男子申込!$D$21="","",男子申込!$D$21) | F26: =IF(男子申込!$E$20="","",男子申込!$E$20) | G26: =IF(男子申込!$I$20="","",男子申込!$I$20)
E27: =IF(男子申込!$D$23="","",男子申込!$D$23) | F27: =IF(男子申込!$E$22="","",男子申込!$E$22) | G27: =IF(男子申込!$I$22="","",男子申込!$I$22)
E28: =IF(男子申込!$M$17="","",男子申込!$M$17) | F28: =IF(男子申込!$N$16="","",男子申込!$N$16) | G28: =IF(男子申込!$R$16="","",男子申込!$R$16)
E29: =IF(男子申込!$M$19="","",男子申込!$M$19) | F29: =IF(男子申込!$N$18="","",男子申込!$N$18) | G29: =IF(男子申込!$R$18="","",男子申込!$R$18)
E30: =IF(男子申込!$M$21="","",男子申込!$M$21) | F30: =IF(男子申込!$N$20="","",男子申込!$N$20) | G30: =IF(男子申込!$R$20="","",男子申込!$R$20)
C31: きりとり
A33: =A1 -> 令和8年度 東北信地区新人大会 バドミントンの部
A34: =A2 -> 2026.11.15 長野運動公園総合体育館
A35: オーダー用紙 (対戦チーム用) | F35: (男子団体戦)
A36: 予選リーグ | B36: 決勝トーナメント | D36: 回戦 | E36: 試合番号
A37: 自チーム学校名 | B37: =男子申込!D9 -> 0 | E37: 相手チーム学校名 | G37: 中学校
A38: 監督氏名 | B38: =男子申込!$D$12 -> 0 | E38: コーチ氏名 | F38: =IF(男子申込!$D$13="","",男子申込!$D$13) | G38: =IF(男子申込!$I$14="","",男子申込!$I$14)
A39: ※試合に出場する選手の各試合欄に○を記入して下さい。 | B39: D1 | C39: S | D39: D2 | E39: 選手氏名 | F39: ふりがな | G39: 学年
E40: =IF(男子申込!$D$17="","",男子申込!$D$17) | F40: =IF(男子申込!$E$16="","",男子申込!$E$16) | G40: =IF(男子申込!$I$16="","",男子申込!$I$16)
E41: =IF(男子申込!$D$19="","",男子申込!$D$19) | F41: =IF(男子申込!$E$18="","",男子申込!$E$18) | G41: =IF(男子申込!$I$18="","",男子申込!$I$18)
E42: =IF(男子申込!$D$21="","",男子申込!$D$21) | F42: =IF(男子申込!$E$20="","",男子申込!$E$20) | G42: =IF(男子申込!$I$20="","",男子申込!$I$20)
...

Sheet 個人男(事務局用)
A1: 男子シングルス
A2: 学校名 | B2: 種目 | C2: 選手１ | D2: 所属１ | E2: 選手２ | F2: 所属２ | G2: 番手
A3: =IF(男子申込!$D$67="","",男子申込!$D$35) | B3: =IF(男子申込!$D$67="","","男子単") | C3: =IF(男子申込!$D$67="","",男子申込!$D$67) | D3: =IF(男子申込!$D$67="","",男子申込!$F$35) | G3: 1
A4: =IF(男子申込!$D$67="","",男子申込!$D$35) | B4: =IF(男子申込!$D$70="","","男子単") | C4: =IF(男子申込!$D$70="","",男子申込!$D$70) | D4: =IF(男子申込!$D$70="","",男子申込!$F$35) | G4: 2
A5: =IF(男子申込!$D$67="","",男子申込!$D$35) | B5: =IF(男子申込!$D$73="","","男子単") | C5: =IF(男子申込!$D$73="","",男子申込!$D$73) | D5: =IF(男子申込!$D$73="","",男子申込!$F$35) | G5: 3
A6: =IF(男子申込!$D$67="","",男子申込!$D$35) | B6: =IF(男子申込!$D$76="","","男子単") | C6: =IF(男子申込!$D$76="","",男子申込!$D$76) | D6: =IF(男子申込!$D$76="","",男子申込!$F$35) | G6: 4
A7: =IF(男子申込!$D$67="","",男子申込!$D$35) | B7: =IF(男子申込!$D$79="","","男子単") | C7: =IF(男子申込!$D$79="","",男子申込!$D$79) | D7: =IF(男子申込!$D$79="","",男子申込!$F$35) | G7: 5
A8: =IF(男子申込!$D$67="","",男子申込!$D$35) | B8: =IF(男子申込!$D$82="","","男子単") | C8: =IF(男子申込!$D$82="","",男子申込!$D$82) | D8: =IF(男子申込!$D$82="","",男子申込!$F$35) | G8: 6
A9: =IF(男子申込!$D$67="","",男子申込!$D$35) | B9: =IF(男子申込!$D$85="","","男子単") | C9: =IF(男子申込!$D$85="","",男子申込!$D$85) | D9: =IF(男子申込!$D$85="","",男子申込!$F$35) | G9: 7
A10: =IF(男子申込!$D$67="","",男子申込!$D$35) | B10: =IF(男子申込!$D$88="","","男子単") | C10: =IF(男子申込!$D$88="","",男子申込!$D$88) | D10: =IF(男子申込!$D$88="","",男子申込!$F$35) | G10: 8
A11: =IF(男子申込!$D$67="","",男子申込!$D$35) | B11: =IF(男子申込2!$D$41="","","男子単") | C11: =IF(男子申込2!$D$41="","",男子申込2!$D$41) | D11: =IF(男子申込2!$D$41="","",男子申込2!$F$9) | G11: 9
A12: =IF(男子申込!$D$67="","",男子申込!$D$35) | B12: =IF(男子申込2!$D$44="","","男子単") | C12: =IF(男子申込2!$D$44="","",男子申込2!$D$44) | G12: 10
A13: =IF(男子申込!$D$67="","",男子申込!$D$35) | B13: =IF(男子申込2!$D$47="","","男子単") | C13: =IF(男子申込2!$D$47="","",男子申込2!$D$47) | G13: 11
A14: =IF(男子申込!$D$67="","",男子申込!$D$35) | B14: =IF(男子申込2!$D$50="","","男子単") | C14: =IF(男子申込2!$D$50="","",男子申込2!$D$50) | G14: 12
A15: =IF(男子申込!$D$67="","",男子申込!$D$35) | B15: =IF(男子申込2!$D$53="","","男子単") | C15: =IF(男子申込2!$D$53="","",男子申込2!$D$53) | G15: 13
A16: =IF(男子申込!$D$67="","",男子申込!$D$35) | B16: =IF(男子申込2!$D$56="","","男子単") | C16: =IF(男子申込2!$D$56="","",男子申込2!$D$56) | G16: 14
A17: =IF(男子申込!$D$67="","",男子申込!$D$35) | B17: =IF(男子申込2!$D$59="","","男子単") | C17: =IF(男子申込2!$D$59="","",男子申込2!$D$59) | G17: 15
A18: =IF(男子申込!$D$67="","",男子申込!$D$35) | B18: =IF(男子申込2!$D$62="","","男子単") | C18: =IF(男子申込2!$D$62="","",男子申込2!$D$62) | G18: 16
A19: =IF(男子申込!$D$67="","",男子申込!$D$35)
A20: =IF(男子申込!$D$67="","",男子申込!$D$35)
A21: =IF(男子申込!$D$67="","",男子申込!$D$35)
A22: 男子ダブルス
A23: 学校名 | B23: 種目 | C23: 選手１ | D23: 所属１ | E23: 選手２ | F23: 所属２ | G23: 番手
A24: =IF(男子申込!$D$43="","",男子申込!$D$35) | B24: =IF(男子申込!$D$43="","","男子複") | C24: =IF(男子申込!$D$43="","",男子申込!$D$43) | D24: =IF(男子申込!$D$43="","",男子申込!$F$35) | E24: =IF(男子申込!$D$46="","",男子申込!$D$46) | F24: =IF(男子申込!$D$46="","",男子申込!$F$35) | G24: 1
A25: =IF(男子申込!$D$43="","",男子申込!$D$35) | B25: =IF(男子申込!$D$49="","","男子複") | C25: =IF(男子申込!$D$49="","",男子申込!$D$49) | D25: =IF(男子申込!$D$43="","",男子申込!$F$35) | E25: =IF(男子申込!$D$52="","",男子申込!$D$52) | F25: =IF(男子申込!$D$46="","",男子申込!$F$35) | G25: 2
A26: =IF(男子申込!$D$43="","",男子申込!$D$35) | B26: =IF(男子申込!$D$55="","","男子複") | C26: =IF(男子申込!$D$55="","",男子申込!$D$55) | D26: =IF(男子申込!$D$43="","",男子申込!$F$35) | E26: =IF(男子申込!$D$58="","",男子申込!$D$58) | F26: =IF(男子申込!$D$46="","",男子申込!$F$35) | G26: 3
A27: =IF(男子申込!$D$43="","",男子申込!$D$35) | B27: =IF(男子申込!$D$61="","","男子複") | C27: =IF(男子申込!$D$61="","",男子申込!$D$61) | D27: =IF(男子申込!$D$43="","",男子申込!$F$35) | E27: =IF(男子申込!$D$64="","",男子申込!$D$64) | F27: =IF(男子申込!$D$46="","",男子申込!$F$35) | G27: 4
A28: =IF(男子申込!$D$43="","",男子申込!$D$35) | B28: =IF(男子申込2!$D$17="","","男子複") | C28: =IF(男子申込2!$D$17="","",男子申込2!$D$17) | D28: =IF(男子申込2!$D$17="","",男子申込2!$F$9) | E28: =IF(男子申込2!$D$20="","",男子申込2!$D$20) | F28: =IF(男子申込2!$D$20="","",男子申込2!$F$9) | G28: 5
A29: =IF(男子申込!$D$43="","",男子申込!$D$35) | B29: =IF(男子申込2!$D$23="","","男子複") | C29: =IF(男子申込2!$D$23="","",男子申込2!$D$23) | D29: =IF(男子申込2!$D$23="","",男子申込2!$F$9) | E29: =IF(男子申込2!$D$26="","",男子申込2!$D$26) | F29: =IF(男子申込2!$D$26="","",男子申込2!$F$9) | G29: 6
A30: =IF(男子申込!$D$43="","",男子申込!$D$35) | B30: =IF(男子申込2!$D$29="","","男子複") | C30: =IF(男子申込2!$D$29="","",男子申込2!$D$29) | D30: =IF(男子申込2!$D$29="","",男子申込2!$F$9) | E30: =IF(男子申込2!$D$32="","",男子申込2!$D$32) | F30: =IF(男子申込2!$D$32="","",男子申込2!$F$9) | G30: 7
A31: =IF(男子申込!$D$43="","",男子申込!$D$35) | B31: =IF(男子申込2!$D$35="","","男子複") | C31: =IF(男子申込2!$D$35="","",男子申込2!$D$35) | D31: =IF(男子申込2!$D$35="","",男子申込2!$F$9) | E31: =IF(男子申込2!$D$38="","",男子申込2!$D$38) | F31: =IF(男子申込2!$D$38="","",男子申込2!$F$9) | G31: 8
A32: =IF(男子申込!$D$43="","",男子申込!$D$35) | G32: 9
A33: =IF(男子申込!$D$43="","",男子申込!$D$35) | G33: 10
A34: =IF(男子申込!$D$43="","",男子申込!$D$35) | G34: 11
A35: =IF(男子申込!$D$43="","",男子申込!$D$35) | G35: 12
A36: =IF(男子申込!$D$43="","",男子申込!$D$35) | G36: 13
A37: =IF(男子申込!$D$43="","",男子申込!$D$35) | G37: 14
A38: =IF(男子申込!$D$43="","",男子申込!$D$35) | G38: 15
A39: =IF(男子申込!$D$43="","",男子申込!$D$35) | G39: 16

Sheet 女子申込
A1: 令和8年度 東北信地区新人大会 バドミントンの部 参加申込書
M2: 2026年 | P2: 月 | R2: 日
I3: 中学校長 | R3: 印
I4: クラブ | L4: （クラブ代表者名） | R4: 印
A6: 記
A7: 【 団 体 】 | D7: （ 男 ・ 女 ）
A9: 学校名 チーム名
A11: 監督氏名 | D11: フリガナ | I11: 校長・教員 | K11: 部活動指導員 | T11: ・学校から参加する場合は、「校長・教員」「部活動指導員」のどちらかに〇をし，部活動指導員に〇をした場合は、任命権者を書いてください。
M12: 任命権者
A13: マネージャー またはコーチ | I13: ※教・認・生 | L13: ※「教」は教員，「認」は認定コーチ，「生」は生徒を表す。
A15: 選手氏名 | I15: 学年 | J15: 選手氏名 | R15: 学年
A16: 選 手 | D16: フリガナ | J16: 選 手 | M16: フリガナ
A18: 選 手 | D18: フリガナ | J18: 選 手 | M18: フリガナ
A20: 選 手 | D20: フリガナ | J20: 選 手 | M20: フリガナ
A22: 選 手 | D22: フリガナ
A27: 令和8年度 東北信地区新人大会 バドミントンの部 参加申込書
M28: 2026年 | P28: 月 | R28: 日
I29: 中学校長 | R29: 印
I30: クラブ | L30: （クラブ代表者名） | R30: 印
A32: 記
A33: 【 個 人 】 | D33: （ 男 ・ 女 ）
A35: 学校名 チーム名
A37: 監督氏名 | D37: フリガナ | I37: 校長・教員 | K37: 部活動指導員 | T37: ・学校から参加する場合は、「校長・教員」「部活動指導員」のどちらかに〇をし，部活動指導員に〇をした場合は、任命権者を書いてください。
M38: 任命権者
A39: マネージャー またはコーチ | I39: ※教・認・生 | L39: ※「教」は教員，「認」は認定コーチ，「生」は生徒を表す。
A41: 順位 | B41: 種目 | D41: 氏名 | I41: 学年 | K41: 生年月日 | O41: 備 考
A42: 1 | B42: 複 | D42: フリガナ
D45: フリガナ
A48: 2 | B48: 複 | D48: フリガナ
D51: フリガナ
A54: 3 | B54: 複 | D54: フリガナ
D57: フリガナ
A60: 4 | B60: 複 | D60: フリガナ
D63: フリガナ
A66: 1 | B66: 単 | D66: フリガナ
A69: 2 | B69: 単 | D69: フリガナ
A72: 3 | B72: 単 | D72: フリガナ
A75: 4 | B75: 単 | D75: フリガナ
A78: 5 | B78: 単 | D78: フリガナ
A81: 6 | B81: 単 | D81: フリガナ
...

Sheet 女子申込2
A1: 令和8年度 東北信地区新人大会 バドミントンの部 参加申込書
M2: 2026年 | P2: 月 | R2: 日
I3: 中学校長 | R3: 印
I4: クラブ | L4: （クラブ代表者名） | R4: 印
A6: 記
A7: 【 個 人 】 | D7: （ 男 ・ 女 ）
A9: 学校名 チーム名
A11: 監督氏名 | D11: フリガナ | I11: 校長・教員 | K11: 部活動指導員 | T11: ・学校から参加する場合は、「校長・教員」「部活動指導員」のどちらかに〇をし，部活動指導員に〇をした場合は、任命権者を書いてください。
M12: 任命権者
A13: マネージャー またはコーチ | I13: ※教・認・生 | L13: ※「教」は教員，「認」は認定コーチ，「生」は生徒を表す。
A15: 順位 | B15: 種目 | D15: 氏名 | I15: 学年 | K15: 生年月日 | O15: 備 考
A16: 5 | B16: 複 | D16: フリガナ
D19: フリガナ
A22: 6 | B22: 複 | D22: フリガナ
D25: フリガナ
A28: 7 | B28: 複 | D28: フリガナ
D31: フリガナ
A34: 8 | B34: 複 | D34: フリガナ
D37: フリガナ
A40: 9 | B40: 単 | D40: フリガナ
A43: 10 | B43: 単 | D43: フリガナ
A46: 11 | B46: 単 | D46: フリガナ
A49: 12 | B49: 単 | D49: フリガナ
A52: 13 | B52: 単 | D52: フリガナ
A55: 14 | B55: 単 | D55: フリガナ
A58: 15 | B58: 単 | D58: フリガナ
A61: 16 | B61: 単 | D61: フリガナ
A64: ・各種目ランク順に記入をお願いします。
A65: ・備考欄には令和６年度の県大会・地区大会及び過去の県協会主催大会等の実績の成績の記入をお願いします。
A66: ・欄が足りない場合は、シートをコピーし、種目順位を変更して提出してください。

Sheet 団体女(事務局用)
A1: 令和8年度 東北信地区新人大会 バドミントンの部
A2: 2026.11.15 長野運動公園総合体育館
A3: オーダー用紙 (本部提出用) | F3: (女子団体戦)
A4: 予選リーグ | B4: 決勝トーナメント | D4: 回戦 | E4: 試合番号
A5: 自チーム学校名 | B5: =女子申込!$D$9 -> 0 | E5: 相手チーム学校名 | G5: 中学校
A6: 監督氏名 | B6: =女子申込!$D$12 -> 0 | E6: コーチ氏名 | F6: =IF(女子申込!$D$13="","",女子申込!$D$13) | G6: =IF(女子申込!$I$14="","",女子申込!$I$14)
A7: ※試合に出場する選手の各試合欄に○を記入して下さい。 | B7: D1 | C7: S | D7: D2 | E7: 選手氏名 | F7: ふりがな | G7: 学年
E8: =IF(女子申込!$D$17="","",女子申込!$D$17) | F8: =IF(女子申込!$E$16="","",女子申込!$E$16) | G8: =IF(女子申込!$I$16="","",女子申込!$I$16)
E9: =IF(女子申込!$D$19="","",女子申込!$D$19) | F9: =IF(女子申込!$E$18="","",女子申込!$E$18) | G9: =IF(女子申込!$I$18="","",女子申込!$I$18)
E10: =IF(女子申込!$D$21="","",女子申込!$D$21) | F10: =IF(女子申込!$E$20="","",女子申込!$E$20) | G10: =IF(女子申込!$I$20="","",女子申込!$I$20)
E11: =IF(女子申込!$D$23="","",女子申込!$D$23) | F11: =IF(女子申込!$E$22="","",女子申込!$E$22) | G11: =IF(女子申込!$I$22="","",女子申込!$I$22)
E12: =IF(女子申込!$M$17="","",女子申込!$M$17) | F12: =IF(女子申込!$N$16="","",女子申込!$N$16) | G12: =IF(女子申込!$R$16="","",女子申込!$R$16)
E13: =IF(女子申込!$M$19="","",女子申込!$M$19) | F13: =IF(女子申込!$N$18="","",女子申込!$N$18) | G13: =IF(女子申込!$R$18="","",女子申込!$R$18)
E14: =IF(女子申込!$M$21="","",女子申込!$M$21) | F14: =IF(女子申込!$N$20="","",女子申込!$N$20) | G14: =IF(女子申込!$R$20="","",女子申込!$R$20)
C15: きりとり
A17: =A1 -> 令和8年度 東北信地区新人大会 バドミントンの部
A18: =A2 -> 2026.11.15 長野運動公園総合体育館
A19: オーダー用紙 (自チーム用) | F19: (女子団体戦)
A20: 予選リーグ | B20: 決勝トーナメント | D20: 回戦 | E20: 試合番号
A21: 自チーム学校名 | B21: =女子申込!$D$9 -> 0 | E21: 相手チーム学校名 | G21: 中学校
A22: 監督氏名 | B22: =女子申込!$D$12 -> 0 | E22: コーチ氏名 | F22: =IF(女子申込!$D$13="","",女子申込!$D$13) | G22: =IF(女子申込!$I$14="","",女子申込!$I$14)
A23: ※試合に出場する選手の各試合欄に○を記入して下さい。 | B23: D1 | C23: S | D23: D2 | E23: 選手氏名 | F23: ふりがな | G23: 学年
E24: =IF(女子申込!$D$17="","",女子申込!$D$17) | F24: =IF(女子申込!$E$16="","",女子申込!$E$16) | G24: =IF(女子申込!$I$16="","",女子申込!$I$16)
E25: =IF(女子申込!$D$19="","",女子申込!$D$19) | F25: =IF(女子申込!$E$18="","",女子申込!$E$18) | G25: =IF(女子申込!$I$18="","",女子申込!$I$18)
E26: =IF(女子申込!$D$21="","",女子申込!$D$21) | F26: =IF(女子申込!$E$20="","",女子申込!$E$20) | G26: =IF(女子申込!$I$20="","",女子申込!$I$20)
E27: =IF(女子申込!$D$23="","",女子申込!$D$23) | F27: =IF(女子申込!$E$22="","",女子申込!$E$22) | G27: =IF(女子申込!$I$22="","",女子申込!$I$22)
E28: =IF(女子申込!$M$17="","",女子申込!$M$17) | F28: =IF(女子申込!$N$16="","",女子申込!$N$16) | G28: =IF(女子申込!$R$16="","",女子申込!$R$16)
E29: =IF(女子申込!$M$19="","",女子申込!$M$19) | F29: =IF(女子申込!$N$18="","",女子申込!$N$18) | G29: =IF(女子申込!$R$18="","",女子申込!$R$18)
E30: =IF(女子申込!$M$21="","",女子申込!$M$21) | F30: =IF(女子申込!$N$20="","",女子申込!$N$20) | G30: =IF(女子申込!$R$20="","",女子申込!$R$20)
C31: きりとり
A33: =A1 -> 令和8年度 東北信地区新人大会 バドミントンの部
A34: =A2 -> 2026.11.15 長野運動公園総合体育館
A35: オーダー用紙 (対戦チーム用) | F35: (女子団体戦)
A36: 予選リーグ | B36: 決勝トーナメント | D36: 回戦 | E36: 試合番号
A37: 自チーム学校名 | B37: =女子申込!$D$9 -> 0 | E37: 相手チーム学校名 | G37: 中学校
A38: 監督氏名 | B38: =女子申込!$D$12 -> 0 | E38: コーチ氏名 | F38: =IF(女子申込!$D$13="","",女子申込!$D$13) | G38: =IF(女子申込!$I$14="","",女子申込!$I$14)
A39: ※試合に出場する選手の各試合欄に○を記入して下さい。 | B39: D1 | C39: S | D39: D2 | E39: 選手氏名 | F39: ふりがな | G39: 学年
E40: =IF(女子申込!$D$17="","",女子申込!$D$17) | F40: =IF(女子申込!$E$16="","",女子申込!$E$16) | G40: =IF(女子申込!$I$16="","",女子申込!$I$16)
E41: =IF(女子申込!$D$19="","",女子申込!$D$19) | F41: =IF(女子申込!$E$18="","",女子申込!$E$18) | G41: =IF(女子申込!$I$18="","",女子申込!$I$18)
E42: =IF(女子申込!$D$21="","",女子申込!$D$21) | F42: =IF(女子申込!$E$20="","",女子申込!$E$20) | G42: =IF(女子申込!$I$20="","",女子申込!$I$20)
...

Sheet 個人女(事務局用)
A1: 女子シングルス
A2: 学校名 | B2: 種目 | C2: 選手１ | D2: 所属１ | E2: 選手２ | F2: 所属２ | G2: 番手
A3: =IF(女子申込!$D$67="","",女子申込!$D$35) | B3: =IF(女子申込!$D$67="","","女子単") | C3: =IF(女子申込!$D$67="","",女子申込!$D$67) | D3: =IF(女子申込!$D$67="","",女子申込!$F$35) | G3: 1
A4: =IF(女子申込!$D$67="","",女子申込!$D$35) | B4: =IF(女子申込!$D$70="","","女子単") | C4: =IF(女子申込!$D$70="","",女子申込!$D$70) | D4: =IF(女子申込!$D$70="","",女子申込!$F$35) | G4: 2
A5: =IF(女子申込!$D$67="","",女子申込!$D$35) | B5: =IF(女子申込!$D$73="","","女子単") | C5: =IF(女子申込!$D$73="","",女子申込!$D$73) | D5: =IF(女子申込!$D$73="","",女子申込!$F$35) | G5: 3
A6: =IF(女子申込!$D$67="","",女子申込!$D$35) | B6: =IF(女子申込!$D$76="","","女子単") | C6: =IF(女子申込!$D$76="","",女子申込!$D$76) | D6: =IF(女子申込!$D$76="","",女子申込!$F$35) | G6: 4
A7: =IF(女子申込!$D$67="","",女子申込!$D$35) | B7: =IF(女子申込!$D$79="","","女子単") | C7: =IF(女子申込!$D$79="","",女子申込!$D$79) | D7: =IF(女子申込!$D$79="","",女子申込!$F$35) | G7: 5
A8: =IF(女子申込!$D$67="","",女子申込!$D$35) | B8: =IF(女子申込!$D$82="","","女子単") | C8: =IF(女子申込!$D$82="","",女子申込!$D$82) | D8: =IF(女子申込!$D$82="","",女子申込!$F$35) | G8: 6
A9: =IF(女子申込!$D$67="","",女子申込!$D$35) | B9: =IF(女子申込!$D$85="","","女子単") | C9: =IF(女子申込!$D$85="","",女子申込!$D$85) | D9: =IF(女子申込!$D$85="","",女子申込!$F$35) | G9: 7
A10: =IF(女子申込!$D$67="","",女子申込!$D$35) | B10: =IF(女子申込!$D$88="","","女子単") | C10: =IF(女子申込!$D$88="","",女子申込!$D$88) | D10: =IF(女子申込!$D$88="","",女子申込!$F$35) | G10: 8
A11: =IF(女子申込!$D$67="","",女子申込!$D$35) | B11: =IF(女子申込2!$D$41="","","女子単") | C11: =IF(女子申込2!$D$41="","",女子申込2!$D$41) | D11: =IF(女子申込2!$D$41="","",女子申込2!$F$9) | G11: 9
A12: =IF(女子申込!$D$67="","",女子申込!$D$35) | B12: =IF(女子申込2!$D$44="","","女子単") | C12: =IF(女子申込2!$D$44="","",女子申込2!$D$44) | G12: 10
A13: =IF(女子申込!$D$67="","",女子申込!$D$35) | B13: =IF(女子申込2!$D$47="","","女子単") | C13: =IF(女子申込2!$D$47="","",女子申込2!$D$47) | G13: 11
A14: =IF(女子申込!$D$67="","",女子申込!$D$35) | B14: =IF(女子申込2!$D$50="","","女子単") | C14: =IF(女子申込2!$D$50="","",女子申込2!$D$50) | G14: 12
A15: =IF(女子申込!$D$67="","",女子申込!$D$35) | B15: =IF(女子申込2!$D$53="","","女子単") | C15: =IF(女子申込2!$D$53="","",女子申込2!$D$53) | G15: 13
A16: =IF(女子申込!$D$67="","",女子申込!$D$35) | B16: =IF(女子申込2!$D$56="","","女子単") | C16: =IF(女子申込2!$D$56="","",女子申込2!$D$56) | G16: 14
A17: =IF(女子申込!$D$67="","",女子申込!$D$35) | B17: =IF(女子申込2!$D$59="","","女子単") | C17: =IF(女子申込2!$D$59="","",女子申込2!$D$59) | G17: 15
A18: =IF(女子申込!$D$67="","",女子申込!$D$35) | B18: =IF(女子申込2!$D$62="","","女子単") | C18: =IF(女子申込2!$D$62="","",女子申込2!$D$62) | G18: 16
A20: =IF(女子申込!$D$67="","",女子申込!$D$35)
A21: 女子ダブルス
A22: 学校名 | B22: 種目 | C22: 選手１ | D22: 所属１ | E22: 選手２ | F22: 所属２ | G22: 番手
A23: =IF(女子申込!$D$43="","",女子申込!$D$35) | B23: =IF(女子申込!$D$43="","","女子複") | C23: =IF(女子申込!$D$43="","",女子申込!$D$43) | D23: =IF(女子申込!$D$43="","",女子申込!$F$35) | E23: =IF(女子申込!$D$46="","",女子申込!$D$46) | F23: =IF(女子申込!$D$46="","",女子申込!$F$35) | G23: 1
A24: =IF(女子申込!$D$43="","",女子申込!$D$35) | B24: =IF(女子申込!$D$49="","","女子複") | C24: =IF(女子申込!$D$49="","",女子申込!$D$49) | D24: =IF(女子申込!$D$43="","",女子申込!$F$35) | E24: =IF(女子申込!$D$52="","",女子申込!$D$52) | F24: =IF(女子申込!$D$46="","",女子申込!$F$35) | G24: 2
A25: =IF(女子申込!$D$43="","",女子申込!$D$35) | B25: =IF(女子申込!$D$55="","","女子複") | C25: =IF(女子申込!$D$55="","",女子申込!$D$55) | D25: =IF(女子申込!$D$43="","",女子申込!$F$35) | E25: =IF(女子申込!$D$58="","",女子申込!$D$58) | F25: =IF(女子申込!$D$46="","",女子申込!$F$35) | G25: 3
A26: =IF(女子申込!$D$43="","",女子申込!$D$35) | B26: =IF(女子申込!$D$61="","","女子複") | C26: =IF(女子申込!$D$61="","",女子申込!$D$61) | D26: =IF(女子申込!$D$43="","",女子申込!$F$35) | E26: =IF(女子申込!$D$64="","",女子申込!$D$64) | F26: =IF(女子申込!$D$46="","",女子申込!$F$35) | G26: 4
A27: =IF(女子申込!$D$43="","",女子申込!$D$35) | B27: =IF(女子申込2!$D$17="","","女子複") | C27: =IF(女子申込2!$D$17="","",女子申込2!$D$17) | D27: =IF(女子申込2!$D$17="","",女子申込2!$F$9) | E27: =IF(女子申込2!$D$20="","",女子申込2!$D$20) | F27: =IF(女子申込2!$D$20="","",女子申込2!$F$9) | G27: 5
A28: =IF(女子申込!$D$43="","",女子申込!$D$35) | B28: =IF(女子申込2!$D$23="","","女子複") | C28: =IF(女子申込2!$D$23="","",女子申込2!$D$23) | D28: =IF(女子申込2!$D$23="","",女子申込2!$F$9) | E28: =IF(女子申込2!$D$26="","",女子申込2!$D$26) | F28: =IF(女子申込2!$D$26="","",女子申込2!$F$9) | G28: 6
A29: =IF(女子申込!$D$43="","",女子申込!$D$35) | B29: =IF(女子申込2!$D$29="","","女子複") | C29: =IF(女子申込2!$D$29="","",女子申込2!$D$29) | D29: =IF(女子申込2!$D$29="","",女子申込2!$F$9) | E29: =IF(女子申込2!$D$32="","",女子申込2!$D$32) | F29: =IF(女子申込2!$D$32="","",女子申込2!$F$9) | G29: 7
A30: =IF(女子申込!$D$43="","",女子申込!$D$35) | B30: =IF(女子申込2!$D$35="","","女子複") | C30: =IF(女子申込2!$D$35="","",女子申込2!$D$35) | D30: =IF(女子申込2!$D$35="","",女子申込2!$F$9) | E30: =IF(女子申込2!$D$38="","",女子申込2!$D$38) | F30: =IF(女子申込2!$D$38="","",女子申込2!$F$9) | G30: 8
A31: =IF(女子申込!$D$43="","",女子申込!$D$35) | G31: 9
A32: =IF(女子申込!$D$43="","",女子申込!$D$35) | G32: 10
A33: =IF(女子申込!$D$43="","",女子申込!$D$35) | G33: 11
A34: =IF(女子申込!$D$43="","",女子申込!$D$35) | G34: 12
A35: =IF(女子申込!$D$43="","",女子申込!$D$35) | G35: 13
A36: =IF(女子申込!$D$43="","",女子申込!$D$35) | G36: 14
A37: =IF(女子申込!$D$43="","",女子申込!$D$35) | G37: 15
A38: =IF(女子申込!$D$43="","",女子申込!$D$35) | G38: 16
A39: =IF(女子申込!$D$43="","",女子申込!$D$35)
